BEGIN:VCALENDAR
VERSION:2.0
PRODID:-//GoToBe//Local OS//EN
CALSCALE:GREGORIAN
METHOD:PUBLISH
X-WR-CALNAME:GoToBe /join/boulders-first-timers-circle
X-WR-CALDESC:En tilbagevendende begynderkreds for folk der vil prøve bouldering sammen med andre\, som også stadig er ved at finde ud af det.
X-PUBLISHED-TTL:PT6H
BEGIN:VEVENT
UID:event-boulders-first-timers-1@gotobe.app
DTSTAMP:20260425T172732Z
DTSTART:20260512T170000Z
DTEND:20260512T190000Z
SUMMARY:Boulders-begynder aften
DESCRIPTION:Boulders for begyndere at Boulders Vanløse\\nhttps://gotobe.app/join/boulders-first-timers-circle
LOCATION:Boulders Vanløse
URL:https://gotobe.app/join/boulders-first-timers-circle
END:VEVENT
END:VCALENDAR