BEGIN:VCALENDAR
VERSION:2.0
PRODID:-//GoToBe//Local OS//EN
CALSCALE:GREGORIAN
METHOD:PUBLISH
X-WR-CALNAME:GoToBe /join/gentle-evening-yoga-vanlose
X-WR-CALDESC:En blid yogarytme midt på ugen for naboer der vil have et roligt rum\, en genkendelig lærerform og ingen præstationsenergi.
X-PUBLISHED-TTL:PT6H
BEGIN:VEVENT
UID:event-gentle-evening-yoga-1@gotobe.app
DTSTAMP:20260425T172932Z
DTSTART:20260429T173000Z
DTEND:20260429T193000Z
SUMMARY:Blid aftenyoga
DESCRIPTION:Blid aftenyoga i Vanløse at Skjulhøj Yoga\\nhttps://gotobe.app/join/gentle-evening-yoga-vanlose
LOCATION:Skjulhøj Yoga
URL:https://gotobe.app/join/gentle-evening-yoga-vanlose
END:VEVENT
END:VCALENDAR