BEGIN:VCALENDAR
VERSION:2.0
PRODID:-//GoToBe//Local OS//EN
CALSCALE:GREGORIAN
METHOD:PUBLISH
X-WR-CALNAME:GoToBe /join/morning-pages-at-simpelt
X-WR-CALDESC:En stille hverdagsstart for folk der vil have femogfyrre minutters skrivning\, kaffe og blid ansvarlighed før resten af dagen.
X-PUBLISHED-TTL:PT6H
BEGIN:VEVENT
UID:event-morning-pages-1@gotobe.app
DTSTAMP:20260425T172827Z
DTSTART:20260505T060000Z
DTEND:20260505T080000Z
SUMMARY:Skrivemorgen og første kaffe
DESCRIPTION:Skrivemorgen hos Simpelt at Café Simpelt\\nhttps://gotobe.app/join/morning-pages-at-simpelt
LOCATION:Café Simpelt
URL:https://gotobe.app/join/morning-pages-at-simpelt
END:VEVENT
END:VCALENDAR