BEGIN:VCALENDAR
VERSION:2.0
PRODID:-//GoToBe//Local OS//EN
CALSCALE:GREGORIAN
METHOD:PUBLISH
X-WR-CALNAME:GoToBe /join/open-repair-hour-vanlose
X-WR-CALDESC:En tilbagevendende time til at fikse små ting sammen: løse knapper\, lamper der er gået ud og cykler der kræver lidt tålmodighed.
X-PUBLISHED-TTL:PT6H
BEGIN:VEVENT
UID:event-repair-hour-1@gotobe.app
DTSTAMP:20260425T172732Z
DTSTART:20260518T160000Z
DTEND:20260518T180000Z
SUMMARY:Åben reparationsstund
DESCRIPTION:Åben reparationsstund i Vanløse at Kulturstationen Vanløse\\nhttps://gotobe.app/join/open-repair-hour-vanlose
LOCATION:Kulturstationen Vanløse
URL:https://gotobe.app/join/open-repair-hour-vanlose
END:VEVENT
END:VCALENDAR