BEGIN:VCALENDAR
VERSION:2.0
PRODID:-//GoToBe//Local OS//EN
CALSCALE:GREGORIAN
METHOD:PUBLISH
X-WR-CALNAME:GoToBe /join/vanlose-sunday-walk-club
X-WR-CALDESC:En blød søndagstur for naboer der vil have frisk luft\, velkendte ansigter og en let grund til at komme ud ad døren.
X-PUBLISHED-TTL:PT6H
BEGIN:VEVENT
UID:event-walk-1@gotobe.app
DTSTAMP:20260425T172931Z
DTSTART:20260426T073000Z
DTEND:20260426T093000Z
SUMMARY:Søndagsrunde gennem Damhusengen
DESCRIPTION:Vanløse søndagsgåtur at Kulturstationen Vanløse\\nhttps://gotobe.app/join/vanlose-sunday-walk-club
LOCATION:Kulturstationen Vanløse
URL:https://gotobe.app/join/vanlose-sunday-walk-club
END:VEVENT
END:VCALENDAR